BEGIN:VCALENDAR
VERSION:2.0
PRODID:-//ASSET - ECPv6.15.12.2//NONSGML v1.0//EN
CALSCALE:GREGORIAN
METHOD:PUBLISH
X-ORIGINAL-URL:https://assetonline.org
X-WR-CALDESC:Events for ASSET
REFRESH-INTERVAL;VALUE=DURATION:PT1H
X-Robots-Tag:noindex
X-PUBLISHED-TTL:PT1H
BEGIN:VTIMEZONE
TZID:UTC
BEGIN:STANDARD
TZOFFSETFROM:+0000
TZOFFSETTO:+0000
TZNAME:UTC
DTSTART:20210101T000000
END:STANDARD
END:VTIMEZONE
BEGIN:VTIMEZONE
TZID:America/New_York
BEGIN:DAYLIGHT
TZOFFSETFROM:-0500
TZOFFSETTO:-0400
TZNAME:EDT
DTSTART:20220313T070000
END:DAYLIGHT
BEGIN:STANDARD
TZOFFSETFROM:-0400
TZOFFSETTO:-0500
TZNAME:EST
DTSTART:20221106T060000
END:STANDARD
BEGIN:DAYLIGHT
TZOFFSETFROM:-0500
TZOFFSETTO:-0400
TZNAME:EDT
DTSTART:20230312T070000
END:DAYLIGHT
BEGIN:STANDARD
TZOFFSETFROM:-0400
TZOFFSETTO:-0500
TZNAME:EST
DTSTART:20231105T060000
END:STANDARD
BEGIN:DAYLIGHT
TZOFFSETFROM:-0500
TZOFFSETTO:-0400
TZNAME:EDT
DTSTART:20240310T070000
END:DAYLIGHT
BEGIN:STANDARD
TZOFFSETFROM:-0400
TZOFFSETTO:-0500
TZNAME:EST
DTSTART:20241103T060000
END:STANDARD
END:VTIMEZONE
BEGIN:VEVENT
DTSTART;TZID=UTC:20241222T090000
DTEND;TZID=UTC:20241222T170000
DTSTAMP:20260423T162425
CREATED:20241220T080239Z
LAST-MODIFIED:20241220T114042Z
UID:5732-1734858000-1734886800@assetonline.org
SUMMARY:In-Person 4th ASSET Conference Program Schedule (Postnoon Sessions)
DESCRIPTION:
URL:https://assetonline.org/event/in-person-4th-asset-conference-program-schedule-postnoon-sessions/
ATTACH;FMTTYPE=image/png:https://assetonline.org/wp-content/uploads/2024/12/In-Person-4th-ASSET-Conference-Program-Schedule-for-22-Dec-24.Page2_-3.png
END:VEVENT
BEGIN:VEVENT
DTSTART;TZID=UTC:20241222T090000
DTEND;TZID=UTC:20241222T170000
DTSTAMP:20260423T162425
CREATED:20241220T080123Z
LAST-MODIFIED:20241220T113612Z
UID:5731-1734858000-1734886800@assetonline.org
SUMMARY:In-Person 4th ASSET Conference Program Schedule (Prenoon Sessions)
DESCRIPTION:
URL:https://assetonline.org/event/in-person-4th-asset-conference-program-schedule-prenoon-sessions/
ATTACH;FMTTYPE=image/png:https://assetonline.org/wp-content/uploads/2024/12/In-Person-4th-ASSET-Conference-Program-Schedule-for-22-Dec-24.Page1_-1.png
END:VEVENT
BEGIN:VEVENT
DTSTART;TZID=UTC:20241221T090000
DTEND;TZID=UTC:20241222T170000
DTSTAMP:20260423T162425
CREATED:20241219T080302Z
LAST-MODIFIED:20241220T080748Z
UID:5719-1734771600-1734886800@assetonline.org
SUMMARY:Online 4th ASSET Conference Program Schedule (Postnoon Sessions)
DESCRIPTION:
URL:https://assetonline.org/event/asset-online-conference-program-schedule/
ATTACH;FMTTYPE=image/png:https://assetonline.org/wp-content/uploads/2024/12/Online-4th-ASSET-Conference-Program-Schedule-for-Dec-21-Dec-24-Page2-2.png
END:VEVENT
BEGIN:VEVENT
DTSTART;TZID=UTC:20241221T090000
DTEND;TZID=UTC:20241221T170000
DTSTAMP:20260423T162425
CREATED:20241219T081712Z
LAST-MODIFIED:20241220T113821Z
UID:5724-1734771600-1734800400@assetonline.org
SUMMARY:Online 4th ASSET Conference Program Schedule (Prenoon Sessions)
DESCRIPTION:
URL:https://assetonline.org/event/asset-online-conference-program-schedule-prenoon-seessions/
ATTACH;FMTTYPE=image/png:https://assetonline.org/wp-content/uploads/2024/12/Online-4th-ASSET-Conference-Program-Schedule-for-Dec-21-Dec-24-Page1-3.png
END:VEVENT
BEGIN:VEVENT
DTSTART;TZID=UTC:20240803T110000
DTEND;TZID=UTC:20240803T120000
DTSTAMP:20260423T162425
CREATED:20230804T025418Z
LAST-MODIFIED:20240722T041725Z
UID:4886-1722682800-1722686400@assetonline.org
SUMMARY:ASSET Bioinformatics (Meta-Analysis) Workshop 2024
DESCRIPTION:[vc_row][vc_column][vc_empty_space height=”52px” el_id=”On Zoom”][vc_single_image image=”2081″ img_size=”full”][/vc_column][/vc_row][vc_row][vc_column][vc_column_text]What do ASSET offer in the Bioinformatics Workshop? \n\nASSET is offering the Bioinformatics (Meta-Analysis) Workshop for high school and university students from August 3 to 31\, 2024. This ASSET Meta-Analysis Course will cover the following topics in five (5) sessions. \n\n1st Session\nWhat is Meta-Analysis?\nSignificance of  Meta-Analysis\nWhat is Qiagen Data Base (QKB) and Ingenuity Pathway analysis (IPA)?\n\n2nd Session\nCreation of My Pathway\nGrow\, Trim\, Connect and Keep Features\nPath Explorer\nHow to Sign Up for IPA?\nAssignments\n\n3rd Session\nAssignments Check\nFiltering the Searches\nRelationship Types\nShortest Path & Shortest Path +1\nOrganization of Data\n\n4th Session\nAssignment Check\nWhat is Molecule Activity Predictor (MAP)\nMAP Effects on Upstream and downstream Molecules\nAssignments\n\n5th Session\nAssignments Check\nRecap of the Course\nMeta-Analysis Quiz* (Winners $60\, $50 & $40 for 1st\, 2nd & 3rd places\, respectively\, and a Certificate of Completion from ASSET)\nNote: To qualify for “Meta-Analysis Quiz”\, students must attend all five (5) sessions.\nWorkshop Pre-requisite:\n          *Thorough knowledge of Biology \n\nWorkshop Content: With an exponential growth in life science research data\, familiarity with bioinformatics has become an exciting as well as a popular skill set both in industry and academia. To increase learners’ competencies and to get them familiarized with data science professions we implemented a set of bioinformatics (meta-analysis) exercises into a hands-on workshop. Meta-analysis exercises were designed to teach participants to navigate bioinformatics databases such as Qiagen Knowledge Base (QKB)\, use built-in tools\, analyze data\, and perform simulation using Molecular Activity Predictor (MAP). The skillsets imparted by this research-focused bioinformatics pedagogical approach will empower participants to be able to leverage this knowledge for their future endeavors in various research applications. \n\n\nElements of Engagement: Throughout the workshop\, participants will explore the computer-based in silico analysis of genes and protein molecules by applying tools of Grow\, Connect\, Trim and Keep\, Path Explorer features along with Molecular Activity Predictor (MAP) by being introduced to an inquiry-based scenario designed for  Meta-analysis exercises\, utilizing Ingenuity Pathway Analysis (IPA) of Qiagen Knowledge Base (QKB) Everyone eligible is welcome to register\, attend and benefit from these currently in high demand skill set. \n\n\nRegister for Bioinformatics (Meta-Analysis) Workshop 2024\n$ 150.00 for full course (15 Credit Hours – 5 Sessions)\nPay Now: Click here to pay\n*You get ASSET Bioinformatics (Meta-Analysis) Course Micro-Credentials Digital Badge\n\n\n[/vc_column_text][/vc_column][/vc_row]
URL:https://assetonline.org/event/asset-bioinformatics-meta-analysis-workshop-2024/
LOCATION:Online\, Boston\, MA\, United States
CATEGORIES:Quiz
ATTACH;FMTTYPE=image/png:https://assetonline.org/wp-content/uploads/2023/08/ASSET-Meta-Analysis-2024-Flyer.png
ORGANIZER;CN="ASSET":MAILTO:info@assetonline.org
END:VEVENT
BEGIN:VEVENT
DTSTART;TZID=UTC:20240526T110000
DTEND;TZID=UTC:20240526T120000
DTSTAMP:20260423T162425
CREATED:20230227T043953Z
LAST-MODIFIED:20240524T021105Z
UID:4738-1716721200-1716724800@assetonline.org
SUMMARY:ASSET Virtual Quiz for Elementary School Students - May 2024
DESCRIPTION:[vc_row][vc_column]      \n        \n          Register Form\n        \n      \n    [vc_empty_space height=”52px” el_id=”119 School Street\, Waltham MA\, 02452″][vc_single_image image=”2081″ img_size=”full”][/vc_column][/vc_row]
URL:https://assetonline.org/event/3rd-asset-virtual-quiz-for-middle-school-students/
LOCATION:Online\, Boston\, MA\, United States
CATEGORIES:Quiz
ATTACH;FMTTYPE=image/png:https://assetonline.org/wp-content/uploads/2022/10/ASSET-Quiz-May-2024-Header.png
ORGANIZER;CN="ASSET":MAILTO:info@assetonline.org
END:VEVENT
BEGIN:VEVENT
DTSTART;TZID=UTC:20240526T110000
DTEND;TZID=UTC:20240526T120000
DTSTAMP:20260423T162425
CREATED:20221002T031514Z
LAST-MODIFIED:20240524T021138Z
UID:4140-1716721200-1716724800@assetonline.org
SUMMARY:ASSET Virtual Quiz for Middle School Students - May 2024
DESCRIPTION:[vc_row][vc_column]      \n        \n          Register Form\n        \n      \n    [vc_empty_space height=”52px” el_id=”119 School Street\, Waltham MA\, 02452″][vc_single_image image=”2081″ img_size=”full”][/vc_column][/vc_row]
URL:https://assetonline.org/event/asset-virtual-quiz-for-middle-school-students/
LOCATION:Online\, Boston\, MA\, United States
CATEGORIES:Quiz
ATTACH;FMTTYPE=image/png:https://assetonline.org/wp-content/uploads/2022/10/ASSET-Quiz-May-2024-Header.png
ORGANIZER;CN="ASSET":MAILTO:info@assetonline.org
END:VEVENT
BEGIN:VEVENT
DTSTART;TZID=America/New_York:20231216T080000
DTEND;TZID=America/New_York:20231217T170000
DTSTAMP:20260423T162425
CREATED:20231216T053957Z
LAST-MODIFIED:20231216T054502Z
UID:5248-1702713600-1702832400@assetonline.org
SUMMARY:3rd ASSET Conference Program Schedule 2023
DESCRIPTION:[vc_row][vc_column][vc_single_image image=”2081″ img_size=”full”][vc_empty_space height=”52px”]      \n        \n          Registration Form\n        \n      \n    [vc_empty_space height=”52px” el_id=”https://us06web.zoom.us/j/87352008708?pwd=M2hYL2M0QXMwYndvdWtJK2xVWlhWUT09″]      \n        \n          Hotels Near Conference Venue\n        \n      \n    [vc_empty_space height=”52px”][vc_single_image image=”4251″ img_size=”full” add_caption=”yes” title=”ASSET Hybrid Conference Venue”][vc_single_image image=”4222″ img_size=”full” add_caption=”yes” title=”Hotel Information (Near Waltham (Boston)”][vc_empty_space height=”52px” el_id=”119 School Street\, Waltham MA\, 02452″][/vc_column][/vc_row]
URL:https://assetonline.org/event/3rd-asset-conference-program-schedule-2023/
LOCATION:Online\, Boston\, MA\, United States
CATEGORIES:Conference
ATTACH;FMTTYPE=image/png:https://assetonline.org/wp-content/uploads/2023/12/Conference-Program15Dec23_Full-Program-1.png
ORGANIZER;CN="ASSET":MAILTO:info@assetonline.org
END:VEVENT
BEGIN:VEVENT
DTSTART;TZID=America/New_York:20231216T080000
DTEND;TZID=America/New_York:20231217T170000
DTSTAMP:20260423T162425
CREATED:20230103T001412Z
LAST-MODIFIED:20231201T061542Z
UID:4480-1702713600-1702832400@assetonline.org
SUMMARY:3rd ASSET Hybrid (Virtual/In-Person) Conference 2023
DESCRIPTION:[vc_row][vc_column][vc_single_image image=”2081″ img_size=”full”][vc_empty_space height=”52px”]      \n        \n          Registration Form\n        \n      \n    [vc_empty_space height=”52px” el_id=”https://us06web.zoom.us/j/87352008708?pwd=M2hYL2M0QXMwYndvdWtJK2xVWlhWUT09″]      \n        \n          Hotels Near Conference Venue\n        \n      \n    [vc_empty_space height=”52px”][vc_single_image image=”4251″ img_size=”full” add_caption=”yes” title=”ASSET Hybrid Conference Venue”][vc_single_image image=”4222″ img_size=”full” add_caption=”yes” title=”Hotel Information (Near Waltham (Boston)”][vc_empty_space height=”52px” el_id=”119 School Street\, Waltham MA\, 02452″][/vc_column][/vc_row]
URL:https://assetonline.org/event/asset-hybrid-virtual-in-person-conference/
LOCATION:Online\, Boston\, MA\, United States
CATEGORIES:Conference
ATTACH;FMTTYPE=image/png:https://assetonline.org/wp-content/uploads/2023/12/ASSET-Conference-2023_Flyer....png
ORGANIZER;CN="ASSET":MAILTO:info@assetonline.org
END:VEVENT
BEGIN:VEVENT
DTSTART;TZID=UTC:20230725T110000
DTEND;TZID=UTC:20230820T123000
DTSTAMP:20260423T162425
CREATED:20230804T024425Z
LAST-MODIFIED:20230804T024425Z
UID:4883-1690282800-1692534600@assetonline.org
SUMMARY:ASSET Python Advanced Course
DESCRIPTION:[vc_row][vc_column]      \n        \n          Register Form\n        \n      \n    [vc_empty_space height=”52px” el_id=”119 School Street\, Waltham MA\, 02452″][vc_single_image image=”2081″ img_size=”full”][/vc_column][/vc_row]
URL:https://assetonline.org/event/asset-python-advanced-course/
LOCATION:Online\, Boston\, MA\, United States
CATEGORIES:Quiz
ATTACH;FMTTYPE=image/png:https://assetonline.org/wp-content/uploads/2023/08/ASSET-Python-Advanced-Google-Form-Header.png
ORGANIZER;CN="ASSET":MAILTO:info@assetonline.org
END:VEVENT
BEGIN:VEVENT
DTSTART;TZID=UTC:20230615T110000
DTEND;TZID=UTC:20230823T123000
DTSTAMP:20260423T162425
CREATED:20230618T165745Z
LAST-MODIFIED:20230618T170730Z
UID:4860-1686826800-1692793800@assetonline.org
SUMMARY:ASSET Online Python Course 2023
DESCRIPTION:[vc_row][vc_column]      \n        \n          Register Form\n        \n      \n    [vc_empty_space height=”52px” el_id=”119 School Street\, Waltham MA\, 02452″][vc_single_image image=”2081″ img_size=”full”][/vc_column][/vc_row]
URL:https://assetonline.org/event/asset-online-python-course-2023/
LOCATION:Online\, Boston\, MA\, United States
CATEGORIES:Quiz
ATTACH;FMTTYPE=image/png:https://assetonline.org/wp-content/uploads/2023/06/ASSET-Python-Course-2023-.png
ORGANIZER;CN="ASSET":MAILTO:info@assetonline.org
END:VEVENT
BEGIN:VEVENT
DTSTART;VALUE=DATE:20230218
DTEND;VALUE=DATE:20230219
DTSTAMP:20260423T162425
CREATED:20230128T041615Z
LAST-MODIFIED:20230209T030149Z
UID:4671-1676678400-1676764799@assetonline.org
SUMMARY:2nd ASSET Quiz for Elementary School Students
DESCRIPTION:[vc_row][vc_column]      \n        \n          Register Form\n        \n      \n    [vc_empty_space height=”52px” el_id=”119 School Street\, Waltham MA\, 02452″][vc_single_image image=”2081″ img_size=”full”][/vc_column][/vc_row]
URL:https://assetonline.org/event/2nd-asset-quiz-for-elementary-school-students/
LOCATION:Online\, Boston\, MA\, United States
CATEGORIES:Quiz
ATTACH;FMTTYPE=image/png:https://assetonline.org/wp-content/uploads/2023/01/Elementary_ASSET-Google-Form-Header_February.png
ORGANIZER;CN="ASSET":MAILTO:info@assetonline.org
END:VEVENT
BEGIN:VEVENT
DTSTART;VALUE=DATE:20230122
DTEND;VALUE=DATE:20230123
DTSTAMP:20260423T162425
CREATED:20221002T032034Z
LAST-MODIFIED:20230128T041248Z
UID:4139-1674345600-1674431999@assetonline.org
SUMMARY:1st ASSET Quiz for Elementary School Students
DESCRIPTION:[vc_row][vc_column]      \n        \n          Register Form\n        \n      \n    [vc_empty_space height=”52px” el_id=”119 School Street\, Waltham MA\, 02452″][vc_single_image image=”2081″ img_size=”full”][/vc_column][/vc_row]
URL:https://assetonline.org/event/asset-quiz-for-elementary-school-students/
LOCATION:Online\, Boston\, MA\, United States
CATEGORIES:Quiz
ATTACH;FMTTYPE=image/png:https://assetonline.org/wp-content/uploads/2022/10/ASSET-Elementary-School-Quiz_Google-Form-Header_2Jan2023_1b.png
ORGANIZER;CN="ASSET":MAILTO:info@assetonline.org
END:VEVENT
BEGIN:VEVENT
DTSTART;TZID=UTC:20221016T140000
DTEND;TZID=UTC:20221016T150000
DTSTAMP:20260423T162425
CREATED:20210321T192412Z
LAST-MODIFIED:20230103T020347Z
UID:2003-1665928800-1665932400@assetonline.org
SUMMARY:ASSET Seminar Series (Technology)
DESCRIPTION:[vc_row][vc_column width=”2/3″][vc_column_text][/vc_column_text][vc_column_text]I[/vc_column_text][vc_column_text][/vc_column_text][/vc_column][vc_column width=”1/3″][vc_single_image image=”2108″ img_size=”full” alignment=”center”][vc_column_text] \nScan and pay Online \n[/vc_column_text][/vc_column][/vc_row]
URL:https://assetonline.org/event/seminar-on-the-topic-of-molecular-biology/
LOCATION:Online\, Boston\, MA\, United States
CATEGORIES:Quiz
ATTACH;FMTTYPE=image/png:https://assetonline.org/wp-content/uploads/2021/03/ASSET-bSeminar-Series_Technology_22Oct22.png
ORGANIZER;CN="ASSET":MAILTO:info@assetonline.org
END:VEVENT
END:VCALENDAR